BEGIN:VCALENDAR
VERSION:2.0
PRODID:-//wp-events-plugin.com//7.2.3.1//EN
TZID:Europe/London
X-WR-TIMEZONE:Europe/London
BEGIN:VEVENT
UID:247@bethersden-pc.gov.uk
DTSTART;TZID=Europe/London:20240508T190000
DTEND;TZID=Europe/London:20240508T210000
DTSTAMP:20240502T173550Z
URL:https://www.bethersden-pc.gov.uk/events/parish-council-meeting-2-2024-
 05-08/
SUMMARY:Annual Parish Council Meeting
DESCRIPTION:[pdf-embedder url="https://www.bethersden-pc.gov.uk/wp-content/
 uploads/2024/05/Agenda-Council-Meeting-8th-May-2024.pdf" title="Agenda Cou
 ncil Meeting 8th May 2024"]
CATEGORIES:Parish Council events
LOCATION:Bethersden Village Hall\, Village Hall\, Forge Hill\,\,  Bethersde
 n\,\, Kent\, TN26 3AF\, Kent\, United Kingdom
X-APPLE-STRUCTURED-LOCATION;VALUE=URI;X-ADDRESS=Village Hall\, Forge Hill\,
 \,  Bethersden\,\, Kent\, TN26 3AF\, Kent\, United Kingdom;X-APPLE-RADIUS=
 100;X-TITLE=Bethersden Village Hall:geo:0,0
END:VEVENT
BEGIN:VTIMEZONE
TZID:Europe/London
X-LIC-LOCATION:Europe/London
BEGIN:DAYLIGHT
DTSTART:20240331T020000
TZOFFSETFROM:+0000
TZOFFSETTO:+0100
TZNAME:BST
END:DAYLIGHT
END:VTIMEZONE
END:VCALENDAR